BEGIN:VCALENDAR
VERSION:2.0
PRODID:-//Green - Events - ECPv6.2.0.1//NONSGML v1.0//EN
CALSCALE:GREGORIAN
X-WR-CALNAME:Green - Events
X-ORIGINAL-URL:https://greenlakees.seattleschools.org/events/moffitts-clas
 s-to-jack-straw-studios/ics/
X-WR-CALDESC:Green - Events
REFRESH-INTERVAL;VALUE=DURATION:PT1D
X-Robots-Tag:noindex
X-PUBLISHED-TTL:PT1D
BEGIN:VTIMEZONE
TZID:America/Vancouver
BEGIN:DAYLIGHT
TZOFFSETFROM:-0800
TZOFFSETTO:-0700
TZNAME:PDT
DTSTART:20260308T100000
END:DAYLIGHT
BEGIN:STANDARD
TZOFFSETFROM:-0700
TZOFFSETTO:-0800
TZNAME:PST
DTSTART:20261101T090000
END:STANDARD
END:VTIMEZONE
BEGIN:VEVENT
DTSTART;TZID=America/Vancouver:20260514T090000
DTEND;TZID=America/Vancouver:20260514T133000
DTSTAMP:20260418T194751Z
CREATED:20260401T110511Z
LAST-MODIFIED:20260401T111542Z
UID:https://greenlakees.seattleschools.org/events/moffitts-class-to-jack-s
 traw-studios/
SUMMARY:Moffitt to Jack Straw 
DESCRIPTION:Moffitt&amp;#8217\;s class to Jack Straw Studios
Moffitt&#039;s class field trip to Jack Straw for their recording session.
 
URL:https://greenlakees.seattleschools.org/events/moffitts-class-to-jack-s
 traw-studios/
END:VEVENT
END:VCALENDAR