BEGIN:VCALENDAR
VERSION:2.0
PRODID:-//Green - Events - ECPv6.2.0.1//NONSGML v1.0//EN
CALSCALE:GREGORIAN
X-WR-CALNAME:Green - Events
X-ORIGINAL-URL:https://greenlakees.seattleschools.org/events/1st-grades-ms
 -g-ms-p-h-to-sam/ics/
X-WR-CALDESC:Green - Events
REFRESH-INTERVAL;VALUE=DURATION:PT1D
X-Robots-Tag:noindex
X-PUBLISHED-TTL:PT1D
BEGIN:VTIMEZONE
TZID:America/Vancouver
BEGIN:DAYLIGHT
TZOFFSETFROM:-0800
TZOFFSETTO:-0700
TZNAME:PDT
DTSTART:20260308T100000
END:DAYLIGHT
BEGIN:STANDARD
TZOFFSETFROM:-0700
TZOFFSETTO:-0800
TZNAME:PST
DTSTART:20261101T090000
END:STANDARD
END:VTIMEZONE
BEGIN:VEVENT
DTSTART;TZID=America/Vancouver:20260523T093000
DTEND;TZID=America/Vancouver:20260523T133000
DTSTAMP:20260419T171554Z
CREATED:20250923T183831Z
LAST-MODIFIED:20250923T184508Z
UID:https://greenlakees.seattleschools.org/events/1st-grades-ms-g-ms-p-h-t
 o-sam/
SUMMARY:Ms. G &amp; Ms. P-H to SAM
DESCRIPTION:1st Grades Ms. G &amp;amp\; Ms. P-H to SAM
1st grade trip to Seattle Art Museum  Ms. G &amp; Ms. Poss-Hahn&#039;s cla
 sses
URL:https://greenlakees.seattleschools.org/events/1st-grades-ms-g-ms-p-h-t
 o-sam/
END:VEVENT
END:VCALENDAR